BEGIN:VCALENDAR
VERSION:2.0
PRODID:-//wp-events-plugin.com//7.2.3.1//EN
TZID:Europe/Berlin
X-WR-TIMEZONE:Europe/Berlin
BEGIN:VEVENT
UID:109@lerchenrainschule.de
DTSTART;TZID=Europe/Berlin;VALUE=DATE:20240507
DTEND;TZID=Europe/Berlin;VALUE=DATE:20240508
DTSTAMP:20240425T111316Z
URL:https://lerchenrainschule.de/events/zertifizierungsfeier-neues-schloss
 /
SUMMARY:Zertifizierungsfeier Neues Schloss
DESCRIPTION:Im Neuen Schloss feiern wir vier musikbetonten Grundschulen in 
 Baden-Württemberg unsere Zertifizierung. Dafür wird gerade fleißig gepr
 obt. Wir freuen uns auf unsere Urkunden und auf die Premiere des Image-Fil
 mes.
END:VEVENT
BEGIN:VTIMEZONE
TZID:Europe/Berlin
X-LIC-LOCATION:Europe/Berlin
BEGIN:DAYLIGHT
DTSTART:20240331T030000
TZOFFSETFROM:+0100
TZOFFSETTO:+0200
TZNAME:CEST
END:DAYLIGHT
END:VTIMEZONE
END:VCALENDAR