BEGIN:VCALENDAR
VERSION:2.0
PRODID:-//wp-events-plugin.com//7.2.3.1//EN
TZID:Europe/Berlin
X-WR-TIMEZONE:Europe/Berlin
BEGIN:VEVENT
UID:89@lerchenrainschule.de
DTSTART;TZID=Europe/Berlin:20240119T114000
DTEND;TZID=Europe/Berlin:20240119T122500
DTSTAMP:20231214T114750Z
URL:https://lerchenrainschule.de/events/winterkonzert-der-musikbetonten-gr
 undschule/
SUMMARY:Winterkonzert der Musikbetonten Grundschule
DESCRIPTION:Wir laden Sie herzlich zum ersten Winterkonzert unserer Schüle
 rinnen und Schüler der musikbetonten Klassen 1 und 2 ein.
END:VEVENT
BEGIN:VTIMEZONE
TZID:Europe/Berlin
X-LIC-LOCATION:Europe/Berlin
BEGIN:STANDARD
DTSTART:20231029T020000
TZOFFSETFROM:+0200
TZOFFSETTO:+0100
TZNAME:CET
END:STANDARD
END:VTIMEZONE
END:VCALENDAR