BEGIN:VCALENDAR
VERSION:2.0
PRODID:-//wp-events-plugin.com//7.2.3.1//EN
TZID:Europe/Berlin
X-WR-TIMEZONE:Europe/Berlin
BEGIN:VEVENT
UID:29@lerchenrainschule.de
DTSTART;TZID=Europe/Berlin:20221216T080000
DTEND;TZID=Europe/Berlin:20221216T084500
DTSTAMP:20221212T163556Z
URL:https://lerchenrainschule.de/events/weihnachtsgottesdienst/
SUMMARY:Weihnachtsgottesdienst
DESCRIPTION:Traditionell werden wir am letzten Schultag vor den Weihnachtsf
 erien um 8.15 Uhr den schulinternen Gottesdienst in der Kirche St. Josef f
 eiern. Alle Schüler*innen\, Eltern und Mitarbeiter*innen sind herzlich vo
 n den Religions- und Werte-Kindern eingeladen an dieser Veranstaltung teil
 zunehmen. Für die Schüler*innen beginnt der Tag um 8.00 Uhr in der Schul
 e. Die Klassen laufen gemeinsammit der Klassenlehrkraft zur Kirche. Sie\, 
 liebe Eltern\, dürfen direkt zur Kirche kommen.
END:VEVENT
BEGIN:VTIMEZONE
TZID:Europe/Berlin
X-LIC-LOCATION:Europe/Berlin
BEGIN:STANDARD
DTSTART:20221030T020000
TZOFFSETFROM:+0200
TZOFFSETTO:+0100
TZNAME:CET
END:STANDARD
END:VTIMEZONE
END:VCALENDAR