BEGIN:VCALENDAR
VERSION:2.0
PRODID:-//wp-events-plugin.com//7.2.3.1//EN
TZID:Europe/Berlin
X-WR-TIMEZONE:Europe/Berlin
BEGIN:VEVENT
UID:56@lerchenrainschule.de
DTSTART;TZID=Europe/Berlin:20230703T150000
DTEND;TZID=Europe/Berlin:20230703T160000
DTSTAMP:20230630T152036Z
URL:https://lerchenrainschule.de/events/vorspiel-der-musikbetonten-grundsc
 hule/
SUMMARY:Vorspiel der Musikbetonten Grundschule
DESCRIPTION:Unsere Erstklässler*innen der Musikbetonten Grundschule zeigen
 \, was sie auf ihrem Instrument schon alles gelernt haben. Alle Eltern der
  Klasse 1a sowie Eltern künftiger Erstklässler*innen der Musikbetonten G
 rundschule sind herzlich eingeladen!
END:VEVENT
BEGIN:VTIMEZONE
TZID:Europe/Berlin
X-LIC-LOCATION:Europe/Berlin
BEGIN:DAYLIGHT
DTSTART:20230326T030000
TZOFFSETFROM:+0100
TZOFFSETTO:+0200
TZNAME:CEST
END:DAYLIGHT
END:VTIMEZONE
END:VCALENDAR