BEGIN:VCALENDAR
VERSION:2.0
PRODID:-//wp-events-plugin.com//7.2.3.1//EN
TZID:Europe/Berlin
X-WR-TIMEZONE:Europe/Berlin
BEGIN:VEVENT
UID:53@lerchenrainschule.de
DTSTART;TZID=Europe/Berlin:20230624T150000
DTEND;TZID=Europe/Berlin:20230624T170000
DTSTAMP:20230525T162005Z
URL:https://lerchenrainschule.de/events/spielzeug-flohmarkt/
SUMMARY:Spielzeug Flohmarkt
DESCRIPTION:Die Kindervertreter*innen (Lerchirat) der Lerchenrainschule ver
 anstalten einen Spielzeug Flohmarkt. Der Aufbau der Stände (am besten ein
 e Decke mitbringen) ist ab 14 Uhr möglich. Die (hoffentlich) zahlreichen 
 Käufer können sich bei einer leckeren Waffel\, einem Hot Dog oder einem 
 kalten Getränk stärken. Die Standgebühr beträgt 1€. Von dem Erlös m
 öchten sich die Kindervertreter*innen ein neues Spielgerät für das Mitt
 agsband kaufen.
END:VEVENT
BEGIN:VTIMEZONE
TZID:Europe/Berlin
X-LIC-LOCATION:Europe/Berlin
BEGIN:DAYLIGHT
DTSTART:20230326T030000
TZOFFSETFROM:+0100
TZOFFSETTO:+0200
TZNAME:CEST
END:DAYLIGHT
END:VTIMEZONE
END:VCALENDAR