BEGIN:VCALENDAR
VERSION:2.0
PRODID:-//wp-events-plugin.com//7.2.3.1//EN
TZID:Europe/Berlin
X-WR-TIMEZONE:Europe/Berlin
BEGIN:VEVENT
UID:108@lerchenrainschule.de
DTSTART;TZID=Europe/Berlin:20240427T150000
DTEND;TZID=Europe/Berlin:20240427T170000
DTSTAMP:20240412T065021Z
URL:https://lerchenrainschule.de/events/spielzeug-flohmarkt-2/
SUMMARY:Spielzeug Flohmarkt
DESCRIPTION:Herzliche Einladung zum 2. Spielzeug Flohmarkt an der Lerchenra
 inschule! Kinder\, die etwas verkaufen möchten\, können ab 14 Uhr ihren 
 Stand aufbauen. Der Lerchi- Rat wird Hotdogs\, Waffeln und Getränke verka
 ufen und freut sich über viele Besucher*innen.
END:VEVENT
BEGIN:VTIMEZONE
TZID:Europe/Berlin
X-LIC-LOCATION:Europe/Berlin
BEGIN:DAYLIGHT
DTSTART:20240331T030000
TZOFFSETFROM:+0100
TZOFFSETTO:+0200
TZNAME:CEST
END:DAYLIGHT
END:VTIMEZONE
END:VCALENDAR