BEGIN:VCALENDAR
VERSION:2.0
PRODID:-//wp-events-plugin.com//7.2.3.1//EN
TZID:Europe/Berlin
X-WR-TIMEZONE:Europe/Berlin
BEGIN:VEVENT
UID:121@lerchenrainschule.de
DTSTART;TZID=Europe/Berlin:20240712T114000
DTEND;TZID=Europe/Berlin:20240712T122500
DTSTAMP:20240604T130547Z
URL:https://lerchenrainschule.de/events/sommer-konzert-klasse-1/
SUMMARY:Sommer-Konzert Klasse 1
DESCRIPTION:In diesem Schuljahr wurde fleißig auf den Instrumenten geübt.
  Wie toll das schon klingt kann heute bestaunt werden.
END:VEVENT
BEGIN:VTIMEZONE
TZID:Europe/Berlin
X-LIC-LOCATION:Europe/Berlin
BEGIN:DAYLIGHT
DTSTART:20240331T030000
TZOFFSETFROM:+0100
TZOFFSETTO:+0200
TZNAME:CEST
END:DAYLIGHT
END:VTIMEZONE
END:VCALENDAR