BEGIN:VCALENDAR
VERSION:2.0
PRODID:-//wp-events-plugin.com//7.2.3.1//EN
TZID:Europe/Berlin
X-WR-TIMEZONE:Europe/Berlin
BEGIN:VEVENT
UID:67@lerchenrainschule.de
DTSTART;TZID=Europe/Berlin;VALUE=DATE:20231005
DTEND;TZID=Europe/Berlin;VALUE=DATE:20231006
DTSTAMP:20230911T151644Z
URL:https://lerchenrainschule.de/events/schulwegtraining-klasse-1/
SUMMARY:Schulwegtraining Klasse 1
DESCRIPTION:An diesem Tag dürfen unsere Erstklässler*innen ihren sicheren
  Schulweg zusammen mit der Stuttgarter Polizei üben.
END:VEVENT
BEGIN:VTIMEZONE
TZID:Europe/Berlin
X-LIC-LOCATION:Europe/Berlin
BEGIN:DAYLIGHT
DTSTART:20230326T030000
TZOFFSETFROM:+0100
TZOFFSETTO:+0200
TZNAME:CEST
END:DAYLIGHT
END:VTIMEZONE
END:VCALENDAR