BEGIN:VCALENDAR
VERSION:2.0
PRODID:-//wp-events-plugin.com//7.2.3.1//EN
TZID:Europe/Berlin
X-WR-TIMEZONE:Europe/Berlin
BEGIN:VEVENT
UID:55@lerchenrainschule.de
DTSTART;TZID=Europe/Berlin;VALUE=DATE:20230726
DTEND;TZID=Europe/Berlin;VALUE=DATE:20230727
DTSTAMP:20230618T102816Z
URL:https://lerchenrainschule.de/events/schuljahresende/
SUMMARY:Schuljahresende
DESCRIPTION:Letzter Schultag! Wir treffen uns um 08:00 Uhr zur Andacht auf 
 dem Schulhof. Der Unterricht endet bereits um 11:20 Uhr.
END:VEVENT
BEGIN:VTIMEZONE
TZID:Europe/Berlin
X-LIC-LOCATION:Europe/Berlin
BEGIN:DAYLIGHT
DTSTART:20230326T030000
TZOFFSETFROM:+0100
TZOFFSETTO:+0200
TZNAME:CEST
END:DAYLIGHT
END:VTIMEZONE
END:VCALENDAR