BEGIN:VCALENDAR
VERSION:2.0
PRODID:-//wp-events-plugin.com//7.2.3.1//EN
TZID:Europe/Berlin
X-WR-TIMEZONE:Europe/Berlin
BEGIN:VEVENT
UID:22@lerchenrainschule.de
DTSTART;TZID=Europe/Berlin:20221118T143000
DTEND;TZID=Europe/Berlin:20221118T170000
DTSTAMP:20221109T164102Z
URL:https://lerchenrainschule.de/events/schulfest/
SUMMARY:Schulfest
DESCRIPTION:Wir laden Sie herzlich zu unserem Herbstfest ein!\n\nBei unsere
 m kunterbunten Programm haben Sie die Gelegenheit\, unsere Schule näher k
 ennen zu lernen\, mit anderen Eltern oder unserem Schulteam ins Gespräch 
 zu kommen und unsere Schüler*innen in Aktion zu erleben. Besonders willko
 mmen sind natürlich auch Eltern unserer künftigen Erstklässler*innen.\n
 \n
END:VEVENT
BEGIN:VTIMEZONE
TZID:Europe/Berlin
X-LIC-LOCATION:Europe/Berlin
BEGIN:STANDARD
DTSTART:20221030T020000
TZOFFSETFROM:+0200
TZOFFSETTO:+0100
TZNAME:CET
END:STANDARD
END:VTIMEZONE
END:VCALENDAR