BEGIN:VCALENDAR
VERSION:2.0
PRODID:-//wp-events-plugin.com//7.2.3.1//EN
TZID:Europe/Berlin
X-WR-TIMEZONE:Europe/Berlin
BEGIN:VEVENT
UID:79@lerchenrainschule.de
DTSTART;TZID=Europe/Berlin;VALUE=DATE:20231117
DTEND;TZID=Europe/Berlin;VALUE=DATE:20231118
DTSTAMP:20230912T183053Z
URL:https://lerchenrainschule.de/events/schulfest-der-lerchenrainschule/
SUMMARY:Schulfest der Lerchenrainschule
DESCRIPTION:Wir freuen uns auf einen schönen Tag mit Ihnen und Ihren Kinde
 rn!
END:VEVENT
BEGIN:VTIMEZONE
TZID:Europe/Berlin
X-LIC-LOCATION:Europe/Berlin
BEGIN:STANDARD
DTSTART:20231029T020000
TZOFFSETFROM:+0200
TZOFFSETTO:+0100
TZNAME:CET
END:STANDARD
END:VTIMEZONE
END:VCALENDAR