BEGIN:VCALENDAR
VERSION:2.0
PRODID:-//wp-events-plugin.com//7.2.3.1//EN
TZID:Europe/Berlin
X-WR-TIMEZONE:Europe/Berlin
BEGIN:VEVENT
UID:46@lerchenrainschule.de
DTSTART;TZID=Europe/Berlin;VALUE=DATE:20230515
DTEND;TZID=Europe/Berlin;VALUE=DATE:20230518
DTSTAMP:20230327T161018Z
URL:https://lerchenrainschule.de/events/projekttage/
SUMMARY:Projekttage
DESCRIPTION:In dieser Woche finden wieder unsere Projekttage statt. In klas
 senübergreifenden Gruppen beschäftigen sich die Kinder mit dem breiten T
 hema "Kunst".
END:VEVENT
BEGIN:VTIMEZONE
TZID:Europe/Berlin
X-LIC-LOCATION:Europe/Berlin
BEGIN:DAYLIGHT
DTSTART:20230326T030000
TZOFFSETFROM:+0100
TZOFFSETTO:+0200
TZNAME:CEST
END:DAYLIGHT
END:VTIMEZONE
END:VCALENDAR