BEGIN:VCALENDAR
VERSION:2.0
PRODID:-//wp-events-plugin.com//7.2.3.1//EN
TZID:Europe/Berlin
X-WR-TIMEZONE:Europe/Berlin
BEGIN:VEVENT
UID:112@lerchenrainschule.de
DTSTART;TZID=Europe/Berlin;VALUE=DATE:20240626
DTEND;TZID=Europe/Berlin;VALUE=DATE:20240629
DTSTAMP:20240604T123702Z
URL:https://lerchenrainschule.de/events/projekttage-2/
SUMMARY:Projekttage
DESCRIPTION:In vielen tollen und spannenden Angeboten werden wir wieder vie
 le tolle Projekte erleben. In Auftritten\, Berichten\, Ausstellungen oder 
 Mitmachstationen dürfen die Sachen bewundert werden.\nAm Freitag sind Gä
 ste ab 12 Uhr für Mitmach-Stationen und Ausstellungen herzlich willkommen
 . Zum Abschluss der Projekttage findet ein buntes Aufführungs-Programm st
 att.
END:VEVENT
BEGIN:VTIMEZONE
TZID:Europe/Berlin
X-LIC-LOCATION:Europe/Berlin
BEGIN:DAYLIGHT
DTSTART:20240331T030000
TZOFFSETFROM:+0100
TZOFFSETTO:+0200
TZNAME:CEST
END:DAYLIGHT
END:VTIMEZONE
END:VCALENDAR