BEGIN:VCALENDAR
VERSION:2.0
PRODID:-//wp-events-plugin.com//7.2.3.1//EN
TZID:Europe/Berlin
X-WR-TIMEZONE:Europe/Berlin
BEGIN:VEVENT
UID:93@lerchenrainschule.de
DTSTART;TZID=Europe/Berlin;VALUE=DATE:20240305
DTEND;TZID=Europe/Berlin;VALUE=DATE:20240306
DTSTAMP:20231214T115613Z
URL:https://lerchenrainschule.de/events/praeventionsprogramm-mein-koerper-
 gehoert-mir/
SUMMARY:Präventionsprogramm "Mein Körper gehört mir"
DESCRIPTION:Wir starten heute mit dem Präventionsprogramm "Mein Körper ge
 hört mir" für alle 3.- und 4. Klässler*innen. Nähere Informationen daz
 u erhalten Sie am Elternabend.
END:VEVENT
BEGIN:VTIMEZONE
TZID:Europe/Berlin
X-LIC-LOCATION:Europe/Berlin
BEGIN:STANDARD
DTSTART:20231029T020000
TZOFFSETFROM:+0200
TZOFFSETTO:+0100
TZNAME:CET
END:STANDARD
END:VTIMEZONE
END:VCALENDAR