BEGIN:VCALENDAR
VERSION:2.0
PRODID:-//wp-events-plugin.com//7.2.3.1//EN
TZID:Europe/Berlin
X-WR-TIMEZONE:Europe/Berlin
BEGIN:VEVENT
UID:95@lerchenrainschule.de
DTSTART;TZID=Europe/Berlin;VALUE=DATE:20240319
DTEND;TZID=Europe/Berlin;VALUE=DATE:20240320
DTSTAMP:20231214T115719Z
URL:https://lerchenrainschule.de/events/praeventionsprogramm-mein-koerper-
 gehoert-mir-3/
SUMMARY:Präventionsprogramm "Mein Körper gehört mir"
DESCRIPTION:Fortsetzung des Präventionsprogramms "Mein Körper gehört mir
 " für alle 3.- und 4. Klässler*innen. Nähere Informationen dazu erhalte
 n Sie am Elternabend.
END:VEVENT
BEGIN:VTIMEZONE
TZID:Europe/Berlin
X-LIC-LOCATION:Europe/Berlin
BEGIN:STANDARD
DTSTART:20231029T020000
TZOFFSETFROM:+0200
TZOFFSETTO:+0100
TZNAME:CET
END:STANDARD
END:VTIMEZONE
END:VCALENDAR