BEGIN:VCALENDAR
VERSION:2.0
PRODID:-//wp-events-plugin.com//7.2.3.1//EN
TZID:Europe/Berlin
X-WR-TIMEZONE:Europe/Berlin
BEGIN:VEVENT
UID:32@lerchenrainschule.de
DTSTART;TZID=Europe/Berlin;VALUE=DATE:20230315
DTEND;TZID=Europe/Berlin;VALUE=DATE:20230316
DTSTAMP:20230202T203556Z
URL:https://lerchenrainschule.de/events/paedagogischer-tag/
SUMMARY:Pädagogischer Tag
DESCRIPTION:Alle Lehrkräfte sowie pädagogischen Fachkräfte setzen sich h
 eute mit der pädagogischen und didaktischen Weiterentwicklung unseres Sch
 ulkonzepts auseinander. Für die Kinder findet kein Unterricht statt.
END:VEVENT
BEGIN:VTIMEZONE
TZID:Europe/Berlin
X-LIC-LOCATION:Europe/Berlin
BEGIN:STANDARD
DTSTART:20221030T020000
TZOFFSETFROM:+0200
TZOFFSETTO:+0100
TZNAME:CET
END:STANDARD
END:VTIMEZONE
END:VCALENDAR