BEGIN:VCALENDAR
VERSION:2.0
PRODID:-//wp-events-plugin.com//7.2.3.1//EN
TZID:Europe/Berlin
X-WR-TIMEZONE:Europe/Berlin
BEGIN:VEVENT
UID:75@lerchenrainschule.de
DTSTART;TZID=Europe/Berlin;VALUE=DATE:20231023
DTEND;TZID=Europe/Berlin;VALUE=DATE:20231024
DTSTAMP:20230912T182616Z
URL:https://lerchenrainschule.de/events/lauf-ums-haus/
SUMMARY:Lauf ums Haus
DESCRIPTION:Auch in diesem Schuljahr veranstalten wir wieder unseren Lauf u
 ms Haus. Wir freuen uns über viele Spenden!
END:VEVENT
BEGIN:VTIMEZONE
TZID:Europe/Berlin
X-LIC-LOCATION:Europe/Berlin
BEGIN:DAYLIGHT
DTSTART:20230326T030000
TZOFFSETFROM:+0100
TZOFFSETTO:+0200
TZNAME:CEST
END:DAYLIGHT
END:VTIMEZONE
END:VCALENDAR