BEGIN:VCALENDAR
VERSION:2.0
PRODID:-//wp-events-plugin.com//7.2.3.1//EN
TZID:Europe/Berlin
X-WR-TIMEZONE:Europe/Berlin
BEGIN:VEVENT
UID:73@lerchenrainschule.de
DTSTART;TZID=Europe/Berlin;VALUE=DATE:20230920
DTEND;TZID=Europe/Berlin;VALUE=DATE:20230921
DTSTAMP:20230912T181441Z
URL:https://lerchenrainschule.de/events/klassenfotos/
SUMMARY:Klassenfotos
DESCRIPTION:Heute kommt ein Fotograf zu uns an die Schule\, um aktuelle Fot
 os unserer Klassen zu machen.
END:VEVENT
BEGIN:VTIMEZONE
TZID:Europe/Berlin
X-LIC-LOCATION:Europe/Berlin
BEGIN:DAYLIGHT
DTSTART:20230326T030000
TZOFFSETFROM:+0100
TZOFFSETTO:+0200
TZNAME:CEST
END:DAYLIGHT
END:VTIMEZONE
END:VCALENDAR