BEGIN:VCALENDAR
VERSION:2.0
PRODID:-//wp-events-plugin.com//7.2.3.1//EN
TZID:Europe/Berlin
X-WR-TIMEZONE:Europe/Berlin
BEGIN:VEVENT
UID:48@lerchenrainschule.de
DTSTART;TZID=Europe/Berlin;VALUE=DATE:20230512
DTEND;TZID=Europe/Berlin;VALUE=DATE:20230513
DTSTAMP:20230430T180425Z
URL:https://lerchenrainschule.de/events/jugendverkehrsschule/
SUMMARY:Jugendverkehrsschule
DESCRIPTION:An vier Terminen können unsere 4.Klässler*innen auf einem Fah
 rradübungsplatz sicheres Fahren im Straßenverkehr üben.
END:VEVENT
BEGIN:VTIMEZONE
TZID:Europe/Berlin
X-LIC-LOCATION:Europe/Berlin
BEGIN:DAYLIGHT
DTSTART:20230326T030000
TZOFFSETFROM:+0100
TZOFFSETTO:+0200
TZNAME:CEST
END:DAYLIGHT
END:VTIMEZONE
END:VCALENDAR