BEGIN:VCALENDAR
VERSION:2.0
PRODID:-//wp-events-plugin.com//7.2.3.1//EN
TZID:Europe/Berlin
X-WR-TIMEZONE:Europe/Berlin
BEGIN:VEVENT
UID:99@lerchenrainschule.de
DTSTART;TZID=Europe/Berlin;VALUE=DATE:20240412
DTEND;TZID=Europe/Berlin;VALUE=DATE:20240413
DTSTAMP:20231214T120205Z
URL:https://lerchenrainschule.de/events/jugendverkehrsschule-klasse-4-2/
SUMMARY:Jugendverkehrsschule Klasse 4
DESCRIPTION:
END:VEVENT
BEGIN:VTIMEZONE
TZID:Europe/Berlin
X-LIC-LOCATION:Europe/Berlin
BEGIN:DAYLIGHT
DTSTART:20240331T030000
TZOFFSETFROM:+0100
TZOFFSETTO:+0200
TZNAME:CEST
END:DAYLIGHT
END:VTIMEZONE
END:VCALENDAR