BEGIN:VCALENDAR
VERSION:2.0
PRODID:-//wp-events-plugin.com//7.2.3.1//EN
TZID:Europe/Berlin
X-WR-TIMEZONE:Europe/Berlin
BEGIN:VEVENT
UID:76@lerchenrainschule.de
DTSTART;TZID=Europe/Berlin:20231025T190000
DTEND;TZID=Europe/Berlin:20231025T203000
DTSTAMP:20231014T173223Z
URL:https://lerchenrainschule.de/events/informationsabend-fuer-erziehungsb
 erechtigte-zukuenftiger-erstklaesslerinnen/
SUMMARY:Informationsabend für Erziehungsberechtigte zukünftiger Erstkläs
 sler*innen - VERSCHOBEN
DESCRIPTION:Achtung: Der Informationsabend wurde auf den 08.11.2023 verscho
 ben.
END:VEVENT
BEGIN:VTIMEZONE
TZID:Europe/Berlin
X-LIC-LOCATION:Europe/Berlin
BEGIN:DAYLIGHT
DTSTART:20230326T030000
TZOFFSETFROM:+0100
TZOFFSETTO:+0200
TZNAME:CEST
END:DAYLIGHT
END:VTIMEZONE
END:VCALENDAR