BEGIN:VCALENDAR
VERSION:2.0
PRODID:-//wp-events-plugin.com//7.2.3.1//EN
TZID:Europe/Berlin
X-WR-TIMEZONE:Europe/Berlin
BEGIN:VEVENT
UID:88@lerchenrainschule.de
DTSTART;TZID=Europe/Berlin:20231108T190000
DTEND;TZID=Europe/Berlin:20231108T200000
DTSTAMP:20231014T173132Z
URL:https://lerchenrainschule.de/events/informationsabend-fuer-erziehungsb
 erechtigte-zukuenftiger-erstklaesslerinnen-2/
SUMMARY:Informationsabend für Erziehungsberechtigte zukünftiger Erstkläs
 sler*innen
DESCRIPTION:Wir heißen Sie herzlich willkommen zu unserem Informationsaben
 d für Eltern zukünftiger Schüler*innen.
END:VEVENT
BEGIN:VTIMEZONE
TZID:Europe/Berlin
X-LIC-LOCATION:Europe/Berlin
BEGIN:STANDARD
DTSTART:20231029T020000
TZOFFSETFROM:+0200
TZOFFSETTO:+0100
TZNAME:CET
END:STANDARD
END:VTIMEZONE
END:VCALENDAR