BEGIN:VCALENDAR
VERSION:2.0
PRODID:-//wp-events-plugin.com//7.2.3.1//EN
TZID:Europe/Berlin
X-WR-TIMEZONE:Europe/Berlin
BEGIN:VEVENT
UID:2@lerchenrainschule.de
DTSTART;TZID=Europe/Berlin;VALUE=DATE:20221031
DTEND;TZID=Europe/Berlin;VALUE=DATE:20221105
DTSTAMP:20220809T082057Z
URL:https://lerchenrainschule.de/events/herbstferien/
SUMMARY:Herbstferien
DESCRIPTION:
END:VEVENT
BEGIN:VTIMEZONE
TZID:Europe/Berlin
X-LIC-LOCATION:Europe/Berlin
BEGIN:STANDARD
DTSTART:20221030T020000
TZOFFSETFROM:+0200
TZOFFSETTO:+0100
TZNAME:CET
END:STANDARD
END:VTIMEZONE
END:VCALENDAR