BEGIN:VCALENDAR
VERSION:2.0
PRODID:-//wp-events-plugin.com//7.2.3.1//EN
TZID:Europe/Berlin
X-WR-TIMEZONE:Europe/Berlin
BEGIN:VEVENT
UID:28@lerchenrainschule.de
DTSTART;TZID=Europe/Berlin:20221206T103500
DTEND;TZID=Europe/Berlin:20221206T112000
DTSTAMP:20221106T104948Z
URL:https://lerchenrainschule.de/events/grundschulversammlung/
SUMMARY:Grundschulversammlung
DESCRIPTION:Die Klassen 3a und 3b gestalten gemeinsam für uns die Grundsch
 ulversammlung zum Nikolaustag.
END:VEVENT
BEGIN:VTIMEZONE
TZID:Europe/Berlin
X-LIC-LOCATION:Europe/Berlin
BEGIN:STANDARD
DTSTART:20221030T020000
TZOFFSETFROM:+0200
TZOFFSETTO:+0100
TZNAME:CET
END:STANDARD
END:VTIMEZONE
END:VCALENDAR