BEGIN:VCALENDAR
VERSION:2.0
PRODID:-//wp-events-plugin.com//7.2.3.1//EN
TZID:Europe/Berlin
X-WR-TIMEZONE:Europe/Berlin
BEGIN:VEVENT
UID:54@lerchenrainschule.de
DTSTART;TZID=Europe/Berlin:20230714T100000
DTEND;TZID=Europe/Berlin:20230714T110000
DTSTAMP:20230618T102634Z
URL:https://lerchenrainschule.de/events/grundschulversammlung-klasse-4/
SUMMARY:Grundschulversammlung Klasse 4
DESCRIPTION:Unsere 4.Klässler*innen verabschieden sich mit dieser Grundsch
 ulversammlung von ihrer Grundschulzeit. Eltern der 4.Klässler*innen sind 
 herzlich eingeladen!
END:VEVENT
BEGIN:VTIMEZONE
TZID:Europe/Berlin
X-LIC-LOCATION:Europe/Berlin
BEGIN:DAYLIGHT
DTSTART:20230326T030000
TZOFFSETFROM:+0100
TZOFFSETTO:+0200
TZNAME:CEST
END:DAYLIGHT
END:VTIMEZONE
END:VCALENDAR