BEGIN:VCALENDAR
VERSION:2.0
PRODID:-//wp-events-plugin.com//7.2.3.1//EN
TZID:Europe/Berlin
X-WR-TIMEZONE:Europe/Berlin
BEGIN:VEVENT
UID:85@lerchenrainschule.de
DTSTART;TZID=Europe/Berlin:20231206T103500
DTEND;TZID=Europe/Berlin:20231206T112000
DTSTAMP:20230912T183517Z
URL:https://lerchenrainschule.de/events/grundschulversammlung-klasse-3/
SUMMARY:Grundschulversammlung Klasse 3
DESCRIPTION:Zum Nikolaustag wird die Grundschulversammlung von unseren 3.Kl
 assen gestaltet. Alle Eltern der 3.Klässler*innen sind herzlich dazu eing
 eladen.
END:VEVENT
BEGIN:VTIMEZONE
TZID:Europe/Berlin
X-LIC-LOCATION:Europe/Berlin
BEGIN:STANDARD
DTSTART:20231029T020000
TZOFFSETFROM:+0200
TZOFFSETTO:+0100
TZNAME:CET
END:STANDARD
END:VTIMEZONE
END:VCALENDAR