BEGIN:VCALENDAR
VERSION:2.0
PRODID:-//wp-events-plugin.com//7.2.3.1//EN
TZID:Europe/Berlin
X-WR-TIMEZONE:Europe/Berlin
BEGIN:VEVENT
UID:64@lerchenrainschule.de
DTSTART;TZID=Europe/Berlin:20230918T095000
DTEND;TZID=Europe/Berlin:20230918T103500
DTSTAMP:20230911T151122Z
URL:https://lerchenrainschule.de/events/grundschulversammlung-klasse-2/
SUMMARY:Grundschulversammlung Klasse 2
DESCRIPTION:Alle Eltern unserer 2.Klässler*innen sind herzlich zur Grundsc
 hulversammlung der zweiten Klassen eingeladen.
END:VEVENT
BEGIN:VTIMEZONE
TZID:Europe/Berlin
X-LIC-LOCATION:Europe/Berlin
BEGIN:DAYLIGHT
DTSTART:20230326T030000
TZOFFSETFROM:+0100
TZOFFSETTO:+0200
TZNAME:CEST
END:DAYLIGHT
END:VTIMEZONE
END:VCALENDAR