BEGIN:VCALENDAR
VERSION:2.0
PRODID:-//wp-events-plugin.com//7.2.3.1//EN
TZID:Europe/Berlin
X-WR-TIMEZONE:Europe/Berlin
BEGIN:VEVENT
UID:31@lerchenrainschule.de
DTSTART;TZID=Europe/Berlin:20230307T103000
DTEND;TZID=Europe/Berlin:20230307T112000
DTSTAMP:20230202T203219Z
URL:https://lerchenrainschule.de/events/grundschulversammlung-klasse-1/
SUMMARY:Grundschulversammlung Klasse 1
DESCRIPTION:Die Klassen 1a und 1b laden herzlich zur ihrer Grundschulversam
 mlung ein.
END:VEVENT
BEGIN:VTIMEZONE
TZID:Europe/Berlin
X-LIC-LOCATION:Europe/Berlin
BEGIN:STANDARD
DTSTART:20221030T020000
TZOFFSETFROM:+0200
TZOFFSETTO:+0100
TZNAME:CET
END:STANDARD
END:VTIMEZONE
END:VCALENDAR