BEGIN:VCALENDAR
VERSION:2.0
PRODID:-//wp-events-plugin.com//7.2.3.1//EN
TZID:Europe/Berlin
X-WR-TIMEZONE:Europe/Berlin
BEGIN:VEVENT
UID:97@lerchenrainschule.de
DTSTART;TZID=Europe/Berlin:20240318T095000
DTEND;TZID=Europe/Berlin:20240318T103500
DTSTAMP:20231214T120059Z
URL:https://lerchenrainschule.de/events/grundschulversammlung-der-1-klasse
 n/
SUMMARY:Grundschulversammlung der 1. Klassen
DESCRIPTION:Alle Eltern der Erstklässler*innen sind herzlich zu unserer Gr
 undschulversammlung eingeladen.
END:VEVENT
BEGIN:VTIMEZONE
TZID:Europe/Berlin
X-LIC-LOCATION:Europe/Berlin
BEGIN:STANDARD
DTSTART:20231029T020000
TZOFFSETFROM:+0200
TZOFFSETTO:+0100
TZNAME:CET
END:STANDARD
END:VTIMEZONE
END:VCALENDAR