BEGIN:VCALENDAR
VERSION:2.0
PRODID:-//wp-events-plugin.com//7.2.3.1//EN
TZID:Europe/Berlin
X-WR-TIMEZONE:Europe/Berlin
BEGIN:VEVENT
UID:130@lerchenrainschule.de
DTSTART;TZID=Europe/Berlin:20240916T095000
DTEND;TZID=Europe/Berlin:20240916T103500
DTSTAMP:20240911T161959Z
URL:https://lerchenrainschule.de/events/grundschulversammlung-2er/
SUMMARY:Grundschulversammlung 2er
DESCRIPTION:Wir dürfen als ganze Schule das Einschulungsstück der 2er bes
 taunen. Seid ihr gespannt?
END:VEVENT
BEGIN:VTIMEZONE
TZID:Europe/Berlin
X-LIC-LOCATION:Europe/Berlin
BEGIN:DAYLIGHT
DTSTART:20240331T030000
TZOFFSETFROM:+0100
TZOFFSETTO:+0200
TZNAME:CEST
END:DAYLIGHT
END:VTIMEZONE
END:VCALENDAR