BEGIN:VCALENDAR
VERSION:2.0
PRODID:-//wp-events-plugin.com//7.2.3.1//EN
TZID:Europe/Berlin
X-WR-TIMEZONE:Europe/Berlin
BEGIN:VEVENT
UID:116@lerchenrainschule.de
DTSTART;TZID=Europe/Berlin;VALUE=DATE:20240718
DTEND;TZID=Europe/Berlin;VALUE=DATE:20240719
DTSTAMP:20240604T124033Z
URL:https://lerchenrainschule.de/events/fussball-trifft-kultur-turnier/
SUMMARY:Fußball-trifft-Kultur-Turnier
DESCRIPTION:Zum Abschluss des Schuljahres findet als Highlight wieder unser
  Fußball-Turnier statt.
END:VEVENT
BEGIN:VTIMEZONE
TZID:Europe/Berlin
X-LIC-LOCATION:Europe/Berlin
BEGIN:DAYLIGHT
DTSTART:20240331T030000
TZOFFSETFROM:+0100
TZOFFSETTO:+0200
TZNAME:CEST
END:DAYLIGHT
END:VTIMEZONE
END:VCALENDAR