BEGIN:VCALENDAR
VERSION:2.0
PRODID:-//wp-events-plugin.com//7.2.3.1//EN
TZID:Europe/Berlin
X-WR-TIMEZONE:Europe/Berlin
BEGIN:VEVENT
UID:39@lerchenrainschule.de
DTSTART;TZID=Europe/Berlin;VALUE=DATE:20230220
DTEND;TZID=Europe/Berlin;VALUE=DATE:20230225
DTSTAMP:20230202T204408Z
URL:https://lerchenrainschule.de/events/faschingsferien/
SUMMARY:Faschingsferien
DESCRIPTION:
END:VEVENT
BEGIN:VTIMEZONE
TZID:Europe/Berlin
X-LIC-LOCATION:Europe/Berlin
BEGIN:STANDARD
DTSTART:20221030T020000
TZOFFSETFROM:+0200
TZOFFSETTO:+0100
TZNAME:CET
END:STANDARD
END:VTIMEZONE
END:VCALENDAR