BEGIN:VCALENDAR
VERSION:2.0
PRODID:-//wp-events-plugin.com//7.2.3.1//EN
TZID:Europe/Berlin
X-WR-TIMEZONE:Europe/Berlin
BEGIN:VEVENT
UID:111@lerchenrainschule.de
DTSTART;TZID=Europe/Berlin:20240621T080000
DTEND;TZID=Europe/Berlin:20240621T123000
DTSTAMP:20240612T163652Z
URL:https://lerchenrainschule.de/events/fahrrad-aktionstag/
SUMMARY:Fahrrad-Aktionstag
DESCRIPTION:Wir werden gemeinsam an vielen tollen Stationen üben richtig\,
  gut und sicher Fahrrad zu fahren.
END:VEVENT
BEGIN:VTIMEZONE
TZID:Europe/Berlin
X-LIC-LOCATION:Europe/Berlin
BEGIN:DAYLIGHT
DTSTART:20240331T030000
TZOFFSETFROM:+0100
TZOFFSETTO:+0200
TZNAME:CEST
END:DAYLIGHT
END:VTIMEZONE
END:VCALENDAR