BEGIN:VCALENDAR
VERSION:2.0
PRODID:-//wp-events-plugin.com//7.2.3.1//EN
TZID:Europe/Berlin
X-WR-TIMEZONE:Europe/Berlin
BEGIN:VEVENT
UID:92@lerchenrainschule.de
DTSTART;TZID=Europe/Berlin:20240221T190000
DTEND;TZID=Europe/Berlin:20240221T210000
DTSTAMP:20240127T184722Z
URL:https://lerchenrainschule.de/events/elternbeiratssitzung-3/
SUMMARY:Elternbeiratssitzung
DESCRIPTION:Die Mitglieder des Elternbeirats sind herzlich eingeladen teilz
 unehmen.
END:VEVENT
BEGIN:VTIMEZONE
TZID:Europe/Berlin
X-LIC-LOCATION:Europe/Berlin
BEGIN:STANDARD
DTSTART:20231029T020000
TZOFFSETFROM:+0200
TZOFFSETTO:+0100
TZNAME:CET
END:STANDARD
END:VTIMEZONE
END:VCALENDAR