BEGIN:VCALENDAR
VERSION:2.0
PRODID:-//wp-events-plugin.com//7.2.3.1//EN
TZID:Europe/Berlin
X-WR-TIMEZONE:Europe/Berlin
BEGIN:VEVENT
UID:72@lerchenrainschule.de
DTSTART;TZID=Europe/Berlin:20231017T190000
DTEND;TZID=Europe/Berlin:20231017T203000
DTSTAMP:20231001T151140Z
URL:https://lerchenrainschule.de/events/elternbeiratssitzung-2/
SUMMARY:Elternbeiratssitzung
DESCRIPTION:Alle Mitglieder des Elternbeirats der Lerchenrainschule sind he
 rzlich eingeladen.
END:VEVENT
BEGIN:VTIMEZONE
TZID:Europe/Berlin
X-LIC-LOCATION:Europe/Berlin
BEGIN:DAYLIGHT
DTSTART:20230326T030000
TZOFFSETFROM:+0100
TZOFFSETTO:+0200
TZNAME:CEST
END:DAYLIGHT
END:VTIMEZONE
END:VCALENDAR