BEGIN:VCALENDAR
VERSION:2.0
PRODID:-//wp-events-plugin.com//7.2.3.1//EN
TZID:Europe/Berlin
X-WR-TIMEZONE:Europe/Berlin
BEGIN:VEVENT
UID:10@lerchenrainschule.de
DTSTART;TZID=Europe/Berlin:20220929T183000
DTEND;TZID=Europe/Berlin:20220929T193000
DTSTAMP:20220919T155954Z
URL:https://lerchenrainschule.de/events/elternabende-der-schulkindbetreuun
 g-klasse-1/
SUMMARY:Elternabend der Schulkindbetreuung (Klasse 1)
DESCRIPTION:Eine schriftliche Einladung finden Sie in Kürze in der Postmap
 pe Ihrer Kinder.
END:VEVENT
BEGIN:VTIMEZONE
TZID:Europe/Berlin
X-LIC-LOCATION:Europe/Berlin
BEGIN:DAYLIGHT
DTSTART:20220327T030000
TZOFFSETFROM:+0100
TZOFFSETTO:+0200
TZNAME:CEST
END:DAYLIGHT
END:VTIMEZONE
END:VCALENDAR