BEGIN:VCALENDAR
VERSION:2.0
PRODID:-//wp-events-plugin.com//7.2.3.1//EN
TZID:Europe/Berlin
X-WR-TIMEZONE:Europe/Berlin
BEGIN:VEVENT
UID:71@lerchenrainschule.de
DTSTART;TZID=Europe/Berlin:20231012T143000
DTEND;TZID=Europe/Berlin:20231012T160000
DTSTAMP:20230911T152035Z
URL:https://lerchenrainschule.de/events/elternabend-klasse-4-3/
SUMMARY:Elternabend Klasse 4
DESCRIPTION:Alle Erziehungsberechtigten der 4.Klässler*innen sind herzlich
  eingeladen.
END:VEVENT
BEGIN:VTIMEZONE
TZID:Europe/Berlin
X-LIC-LOCATION:Europe/Berlin
BEGIN:DAYLIGHT
DTSTART:20230326T030000
TZOFFSETFROM:+0100
TZOFFSETTO:+0200
TZNAME:CEST
END:DAYLIGHT
END:VTIMEZONE
END:VCALENDAR