BEGIN:VCALENDAR
VERSION:2.0
PRODID:-//wp-events-plugin.com//7.2.3.1//EN
TZID:Europe/Berlin
X-WR-TIMEZONE:Europe/Berlin
BEGIN:VEVENT
UID:5@lerchenrainschule.de
DTSTART;TZID=Europe/Berlin:20220915T190000
DTEND;TZID=Europe/Berlin:20220915T203000
DTSTAMP:20220915T074821Z
URL:https://lerchenrainschule.de/events/elternabend-fuer-die-neuen-erstkla
 esslerinnen/
SUMMARY:Elternabend für die neuen Erstklässler:innen
DESCRIPTION:
END:VEVENT
BEGIN:VTIMEZONE
TZID:Europe/Berlin
X-LIC-LOCATION:Europe/Berlin
BEGIN:DAYLIGHT
DTSTART:20220327T030000
TZOFFSETFROM:+0100
TZOFFSETTO:+0200
TZNAME:CEST
END:DAYLIGHT
END:VTIMEZONE
END:VCALENDAR