BEGIN:VCALENDAR
VERSION:2.0
PRODID:-//wp-events-plugin.com//7.2.3.1//EN
TZID:Europe/Berlin
X-WR-TIMEZONE:Europe/Berlin
BEGIN:VEVENT
UID:66@lerchenrainschule.de
DTSTART;TZID=Europe/Berlin:20230928T193000
DTEND;TZID=Europe/Berlin:20230928T203000
DTSTAMP:20230911T151419Z
URL:https://lerchenrainschule.de/events/elternabend-der-schulkindbetreuung
 -fuer-klasse-2-4/
SUMMARY:Elternabend der Schulkindbetreuung für Klasse 2-4
DESCRIPTION:Informationen zur Verlässlichen Grundschule sowie zu unserem G
 anztagsangebot erhalten Sie an diesem Abend.
END:VEVENT
BEGIN:VTIMEZONE
TZID:Europe/Berlin
X-LIC-LOCATION:Europe/Berlin
BEGIN:DAYLIGHT
DTSTART:20230326T030000
TZOFFSETFROM:+0100
TZOFFSETTO:+0200
TZNAME:CEST
END:DAYLIGHT
END:VTIMEZONE
END:VCALENDAR