BEGIN:VCALENDAR
VERSION:2.0
PRODID:-//wp-events-plugin.com//7.2.3.1//EN
TZID:Europe/Berlin
X-WR-TIMEZONE:Europe/Berlin
BEGIN:VEVENT
UID:7@lerchenrainschule.de
DTSTART;TZID=Europe/Berlin:20220917T100000
DTEND;TZID=Europe/Berlin:20220917T120000
DTSTAMP:20220915T080012Z
URL:https://lerchenrainschule.de/events/einschulungsfeier/
SUMMARY:Einschulungsfeier
DESCRIPTION:Wir freuen uns auf die neuen Erstklässler:innen an der Lerchen
 rainschule. Auch in diesem Jahr werden wir wieder jede Klasse separat begr
 üßen.\n\nDie Teilnahme an der Einschulungsfeier ist für die Familien de
 r ersten Klassen möglich.
END:VEVENT
BEGIN:VTIMEZONE
TZID:Europe/Berlin
X-LIC-LOCATION:Europe/Berlin
BEGIN:DAYLIGHT
DTSTART:20220327T030000
TZOFFSETFROM:+0100
TZOFFSETTO:+0200
TZNAME:CEST
END:DAYLIGHT
END:VTIMEZONE
END:VCALENDAR