BEGIN:VCALENDAR
VERSION:2.0
PRODID:-//wp-events-plugin.com//7.2.3.1//EN
TZID:Europe/Berlin
X-WR-TIMEZONE:Europe/Berlin
BEGIN:VEVENT
UID:125@lerchenrainschule.de
DTSTART;TZID=Europe/Berlin;VALUE=DATE:20240914
DTEND;TZID=Europe/Berlin;VALUE=DATE:20240915
DTSTAMP:20240725T145028Z
URL:https://lerchenrainschule.de/events/einschulung-2024/
SUMMARY:Einschulung 2024
DESCRIPTION:Willkommen an der Lerchenrainschule!\n\nWir begrüßen unsere n
 euen 1er und feiern mit euch um 10:00 bzw. 11:00.
END:VEVENT
BEGIN:VTIMEZONE
TZID:Europe/Berlin
X-LIC-LOCATION:Europe/Berlin
BEGIN:DAYLIGHT
DTSTART:20240331T030000
TZOFFSETFROM:+0100
TZOFFSETTO:+0200
TZNAME:CEST
END:DAYLIGHT
END:VTIMEZONE
END:VCALENDAR