BEGIN:VCALENDAR
VERSION:2.0
PRODID:-//wp-events-plugin.com//7.2.3.1//EN
TZID:Europe/Berlin
X-WR-TIMEZONE:Europe/Berlin
BEGIN:VEVENT
UID:12@lerchenrainschule.de
DTSTART;TZID=Europe/Berlin:20221004T080000
DTEND;TZID=Europe/Berlin:20221004T120000
DTSTAMP:20220915T081003Z
URL:https://lerchenrainschule.de/events/der-schulfotograf-kommt-in-die-sch
 ule/
SUMMARY:Der Schulfotograf kommt in die Schule
DESCRIPTION:\n\n\n\n\nIn jeder Klasse kann ein Klassenfoto erworben werden.
  Die Erstklässler erhalten zusätzlich eine Fotomappe mit verschiedenen
  Einzelaufnahmen und einem Klassenfoto.\n\nWeitere Infos finden Sie in Kü
 rze in der Postmappe Ihrer Kinder.\n\n\n\n\n
END:VEVENT
BEGIN:VTIMEZONE
TZID:Europe/Berlin
X-LIC-LOCATION:Europe/Berlin
BEGIN:DAYLIGHT
DTSTART:20220327T030000
TZOFFSETFROM:+0100
TZOFFSETTO:+0200
TZNAME:CEST
END:DAYLIGHT
END:VTIMEZONE
END:VCALENDAR