BEGIN:VCALENDAR
VERSION:2.0
PRODID:-//wp-events-plugin.com//7.2.3.1//EN
TZID:Europe/Berlin
X-WR-TIMEZONE:Europe/Berlin
BEGIN:VEVENT
UID:102@lerchenrainschule.de
DTSTART;TZID=Europe/Berlin;VALUE=DATE:20240325
DTEND;TZID=Europe/Berlin;VALUE=DATE:20240326
DTSTAMP:20231214T120331Z
URL:https://lerchenrainschule.de/events/beginn-der-osterferien/
SUMMARY:Beginn der Osterferien
DESCRIPTION:
END:VEVENT
BEGIN:VTIMEZONE
TZID:Europe/Berlin
X-LIC-LOCATION:Europe/Berlin
BEGIN:STANDARD
DTSTART:20231029T020000
TZOFFSETFROM:+0200
TZOFFSETTO:+0100
TZNAME:CET
END:STANDARD
END:VTIMEZONE
END:VCALENDAR