BEGIN:VCALENDAR
VERSION:2.0
PRODID:-//wp-events-plugin.com//7.2.3.1//EN
TZID:Europe/Berlin
X-WR-TIMEZONE:Europe/Berlin
BEGIN:VEVENT
UID:30@lerchenrainschule.de
DTSTART;TZID=Europe/Berlin;VALUE=DATE:20230210
DTEND;TZID=Europe/Berlin;VALUE=DATE:20230211
DTSTAMP:20221106T105246Z
URL:https://lerchenrainschule.de/events/ausgabe-der-halbjahresinformation/
SUMMARY:Ausgabe der Halbjahresinformation
DESCRIPTION:Ausgabe der Halbjahresinformation für die Klassen 3 und 4.
END:VEVENT
BEGIN:VTIMEZONE
TZID:Europe/Berlin
X-LIC-LOCATION:Europe/Berlin
BEGIN:STANDARD
DTSTART:20221030T020000
TZOFFSETFROM:+0200
TZOFFSETTO:+0100
TZNAME:CET
END:STANDARD
END:VTIMEZONE
END:VCALENDAR