BEGIN:VCALENDAR
VERSION:2.0
PRODID:-//wp-events-plugin.com//7.2.3.1//EN
TZID:Europe/Berlin
X-WR-TIMEZONE:Europe/Berlin
BEGIN:VEVENT
UID:90@lerchenrainschule.de
DTSTART;TZID=Europe/Berlin;VALUE=DATE:20240205
DTEND;TZID=Europe/Berlin;VALUE=DATE:20240206
DTSTAMP:20231214T115022Z
URL:https://lerchenrainschule.de/events/ausgabe-der-halbjahresinformation-
 2/
SUMMARY:Ausgabe der Halbjahresinformation
DESCRIPTION:Heute erhalten unsere 3. - und 4. Klässler*innen ihre Halbjahr
 esinformation. Die 4.Klässler*innen erhalten zudem postalisch die Grundsc
 hulempfehlung.
END:VEVENT
BEGIN:VTIMEZONE
TZID:Europe/Berlin
X-LIC-LOCATION:Europe/Berlin
BEGIN:STANDARD
DTSTART:20231029T020000
TZOFFSETFROM:+0200
TZOFFSETTO:+0100
TZNAME:CET
END:STANDARD
END:VTIMEZONE
END:VCALENDAR