BEGIN:VCALENDAR
VERSION:2.0
PRODID:-//wp-events-plugin.com//7.2.3.1//EN
TZID:Europe/Berlin
X-WR-TIMEZONE:Europe/Berlin
BEGIN:VEVENT
UID:81@lerchenrainschule.de
DTSTART;TZID=Europe/Berlin:20231204T080000
DTEND;TZID=Europe/Berlin:20231204T081500
DTSTAMP:20230912T183231Z
URL:https://lerchenrainschule.de/events/adventssingen-5/
SUMMARY:Adventssingen
DESCRIPTION:Zur Einstimmung in die Adventszeit treffen wir uns morgens zum 
 gemeinsamen Singen auf dem Schulhof.
END:VEVENT
BEGIN:VTIMEZONE
TZID:Europe/Berlin
X-LIC-LOCATION:Europe/Berlin
BEGIN:STANDARD
DTSTART:20231029T020000
TZOFFSETFROM:+0200
TZOFFSETTO:+0100
TZNAME:CET
END:STANDARD
END:VTIMEZONE
END:VCALENDAR